Workbook

Sheet 個人・団体の部
B2: 令和８年度 第27回 北陸三県高等学校新人ゴルフ選手権大会
B3: ［ 個人・団体の部 ］
B4: 大 会 参 加 申 込 書
B5: 北陸三県高等学校新人ゴルフ選手権大会
B6: 大会委員長 若松 一 様
B7: 下記の者は、本校生徒であり、 「令和８年度 第27回 北陸三県高等学校ゴルフ選手権大会個人の部」に参加することを認め、申し込みいたします。
C8: 令和 | D8: 8 | E8: 年 | G8: 月 | I8: 日
M9: 学校名 | T9: 高等学校 | Y9: 学年 | Z9: １ | AA9: ２
M10: 校長名 | U10: 印 | Y10: ランク | Z10: Ａ | AA10: Ｂ | AB10: Ｃ | AC10: Ｄ | AD10: Ｅ | AE10: Ｆ
M11: 顧 問 | U11: 印 | Y11: ラウンド･出席 | Z11: する | AA11: しない
N12: （連絡先 ℡ | V12: ） | Y12: 団体戦 | Z12: 〇 | AA12: Ａ | AB12: Ｂ | AC12: 富Ａ | AD12: 富Ｂ | AE12: 富Ｃ | AF12: 石Ａ | AG12: 石Ｂ | AH12: 石Ｃ | AI12: 福Ａ | AJ12: 福Ｂ | AK12: 福Ｃ
B13: 男子の部 | M13: 女子の部 | Y13: 個人戦 | Z13: ○
B14: 氏 名 | G14: 学年 | H14: 公式練習 | I14: 個人戦 | J14: 団体戦 | K14: ランク | M14: 氏 名 | R14: 学年 | S14: 公式練習 | T14: 個人戦 | U14: 団体戦 | V14: ランク | Y14: 公式練習 | Z14: 参加 | AA14: 不参加
W15: ← | X15: 学年、公式練習、個人戦、団体戦、ランクはリストより選択してください。
B23: ※ 公式指定練習に参加する選手は「公式練習」の欄で、参加を選択、しない選手は不参加を選択 | Y23: ※ 個人戦 | AA23: =AD23+AG23 -> 0 | AB23: 名（男子 | AD23: =COUNTA(I15:I22) -> 0 | AE23: 名、 | AF23: 女子 | AG23: =COUNTA(T15:T22) -> 0 | AH23: 名）
B24: ※ 個人戦に参加する選手は「個人戦」の欄で〇を選択 | Y24: ※ 団体戦 | AA24: =AD24+AG24 -> 0 | AB24: 名（男子 | AD24: =COUNTA(J15:J22) -> 0 | AE24: 名、 | AF24: 女子 | AG24: =COUNTA(U15:U22) -> 0 | AH24: 名）
B25: ※ 団体戦に参加する選手は「団体戦」の欄で、学校で１チームのみの場合は〇、学校で２チームの場合はＡかＢを選択
B26: ※ 合同チームに参加する生徒は「団体戦」の欄で、富山県男子Ａ(富山県女子Ａも同様)なら富Ａなどを選択
B27: ※ ランクは、 Ａ→70台、Ｂ→80台、Ｃ→90台、Ｄ→100台、Ｅ→110台、Ｆ→120
B28: ※ 参加者 | D28: =G28+J28 -> 0 | E28: 名（男子 | G28: =COUNTA(B15:F22) -> 0 | H28: 名、 | I28: 女子 | J28: =COUNTA(M15:Q22) -> 0 | K28: 名）
B30: 【引率顧問氏名】 | F30: ※引率顧問は、競技運営の役割があります。
C31: 氏名 | F31: 緊急連絡先 電話番号 | I31: 11月12日(木) 選手とラウンド 希望 | L31: 11月13日(金) 出席 | P31: 備考
B33: ① | W33: ← | X33: 備考には、競技運営の役割のときの留意点を記入してください。特にない場合は記入しないでください。 例：目が悪いのでフォアキャディは避けてほしい。 など
B34: ②
B35: ③
B36: ④
I37: ↑ | L37: ↑
L38: 11/13出席する場合は「する」を、しない場合は「しない」を選択してください。
I40: 選手とラウンドを希望する顧問は「する」を、しない場合は「しない」を選択してください。 ＊組み合わせの都合上、自分の学校ではない選手(または組)とラウンドする場合がありますのでご了承ください。

Sheet 合同チーム
B2: 令和８年度 第27回 北陸三県高等学校新人ゴルフ選手権大会
B3: ［ 団体の部（複数校合同チーム） ］ | T3: 学年 | U3: １ | V3: ２
B4: 大 会 参 加 申 込 書 | T4: ランク | U4: Ａ | V4: Ｂ | W4: Ｃ | X4: Ｄ | Y4: Ｅ | Z4: Ｆ
B5: 北陸三県高等学校新人ゴルフ選手権大会 | T5: ラウンド 出席 | U5: する | V5: しない
B6: 大会委員長 若松 一 様 | T6: 個人戦 | U6: 〇
B7: 下記の者は、本校生徒であり、 「令和８年度 第27回 北陸三県高等学校ゴルフ選手権大会団体の部」に参加することを認め、申し込みいたします。 | T7: チーム名 | U7: 富山県男子Ａ | V7: 富山県男子Ｂ | W7: 富山県男子Ｃ | X7: 石川県男子Ａ | Y7: 石川県男子Ｂ | Z7: 石川県男子Ｃ | AA7: 福井県男子Ａ | AB7: 福井県男子Ｂ | AC7: 福井県男子Ｃ
C8: 令和 | D8: 8 | E8: 年 | G8: 月 | I8: 日 | T8: チーム名 | U8: 富山県女子Ａ | V8: 富山県女子Ｂ | W8: 富山県女子Ｃ | X8: 石川県女子Ａ | Y8: 石川県女子Ｂ | Z8: 石川県女子Ｃ | AA8: 福井県女子Ａ | AB8: 福井県女子Ｂ | AC8: 福井県女子Ｃ
K10: 学校名 | Q10: 高等学校 | S10: ← | T10: 合同チームは、代表の顧問あるいは監督が所属する学校名、校長名、顧問を記入する
K11: 校長名 | Q11: 印
K12: 顧 問 | Q12: 印
L13: （連絡先 ℡ | R13: ）
B15: 男子登録チーム名 | K15: 女子登録チーム名
S16: ← | T16: 登録チーム名はリストから選択
B18: 男子の部 | E18: 監督氏名 | K18: 女子の部 | N18: 監督氏名 | S18: ← | T18: 合同チームの監督氏名を入力してください
B19: 氏 名 | E19: 学校名 | G19: 学年 | H19: 個人戦 | I19: ランク | K19: 氏 名 | N19: 学校名 | P19: 学年 | Q19: 個人戦 | R19: ランク
S20: ← | T20: 学年、ランクはリストより 選択してください。 個人戦参加の選手に○をつけてください。
B24: ※ 学校名の欄は、「高等学校」は入力しない 例：「〇〇高等学校」なら「〇〇」と入力
B25: ※ 個人戦に参加する選手は「個人戦」の欄に〇を付ける
B26: ※ ランクは、 Ａ→70台、Ｂ→80台、Ｃ→90台、Ｄ→100台、Ｅ→110台、Ｆ→120
B27: ※ 参加者 | D27: =G27+J27 -> 0 | E27: 名（男子 | G27: =COUNTA(B20:D23) -> 0 | H27: 名、 | I27: 女子 | J27: =COUNTA(K20:M23) -> 0 | K27: 名）
B29: 【引率顧問氏名】 | F29: ※引率顧問は、競技運営の役割があります。
B30: ※『個人・団体の部』の申込書にすでに記入済みの方は、この欄へ記入する必要はありません。
C31: 氏名 | F31: 緊急連絡先 電話番号 | I31: 11/12(木) ラウンド 希望 | K31: 11/13(金) 出席 | M31: 備考
B33: ① | S33: ← | T33: 備考には、競技運営の役割のときの留意点を記入してください。特にない場合は記入しないでください。 例：目が悪いのでフォアキャディは避けてほしい。 など
B34: ②
B35: ③
B36: ④
I37: ↑ | K37: ↑
K38: 11/13出席する場合は「する」を、しない場合は「しない」を選択してください。
I40: 選手とラウンドを希望する顧問は「する」を、しない場合は「しない」を選択してください。 ＊組み合わせの都合上、自分の学校ではない選手(または組)とラウンドする場合がありますのでご了承ください。

Sheet 保険申請用名簿
A1: 令和８年度 第27回 北陸三県高等学校新人ゴルフ選手権大会
A2: 保 険 申 請 用 名 簿
A4: 記入例
A5: 学校名 | C5: 学年 | D5: 氏名 | E5: ふりがな | F5: 生年月日(西暦) | G5: 住所
A6: 片山学園 | B6: 高等学校 | C6: 2 | D6: 片山 太郎 | E6: かたやま たろう | F6: 40130 | G6: 富山県富山市東黒牧10番
A7: ここは自動で反映されます | E7: 「ふりがな」「生年月日(西暦)」「住所」をご記入ください
A9: 男子
A10: 学校名 | C10: 学年 | D10: 氏名 | E10: ふりがな | F10: 生年月日(西暦) | G10: 住所
A11: =IF(個人・団体の部!B15=0,"",個人・団体の部!$O$9) | B11: 高等学校 | C11: =IF(個人・団体の部!G15=0,"",個人・団体の部!G15) | D11: =IF(個人・団体の部!B15=0,"",個人・団体の部!B15)
A12: =IF(個人・団体の部!B16=0,"",個人・団体の部!$O$9) | B12: 高等学校 | C12: =IF(個人・団体の部!G16=0,"",個人・団体の部!G16) | D12: =IF(個人・団体の部!B16=0,"",個人・団体の部!B16)
A13: =IF(個人・団体の部!B17=0,"",個人・団体の部!$O$9) | B13: 高等学校 | C13: =IF(個人・団体の部!G17=0,"",個人・団体の部!G17) | D13: =IF(個人・団体の部!B17=0,"",個人・団体の部!B17)
A14: =IF(個人・団体の部!B18=0,"",個人・団体の部!$O$9) | B14: 高等学校 | C14: =IF(個人・団体の部!G18=0,"",個人・団体の部!G18) | D14: =IF(個人・団体の部!B18=0,"",個人・団体の部!B18)
A15: =IF(個人・団体の部!B19=0,"",個人・団体の部!$O$9) | B15: 高等学校 | C15: =IF(個人・団体の部!G19=0,"",個人・団体の部!G19) | D15: =IF(個人・団体の部!B19=0,"",個人・団体の部!B19)
A16: =IF(個人・団体の部!B20=0,"",個人・団体の部!$O$9) | B16: 高等学校 | C16: =IF(個人・団体の部!G20=0,"",個人・団体の部!G20) | D16: =IF(個人・団体の部!B20=0,"",個人・団体の部!B20)
A17: =IF(個人・団体の部!B21=0,"",個人・団体の部!$O$9) | B17: ='[1]大会申込書 '!$O$8 -> 高等学校 | C17: =IF(個人・団体の部!G21=0,"",個人・団体の部!G21) | D17: =IF(個人・団体の部!B21=0,"",個人・団体の部!B21)
A18: =IF(個人・団体の部!B22=0,"",個人・団体の部!$O$9) | B18: ='[1]大会申込書 '!$O$8 -> 高等学校 | C18: =IF(個人・団体の部!G22=0,"",個人・団体の部!G22) | D18: =IF(個人・団体の部!B22=0,"",個人・団体の部!B22)
A20: 女子
A21: 学校名 | C21: 学年 | D21: 氏名 | E21: ふりがな | F21: 生年月日(西暦) | G21: 住所
A22: =IF(個人・団体の部!M15=0,"",個人・団体の部!$O$9) | B22: 高等学校 | C22: =IF(個人・団体の部!R15=0,"",個人・団体の部!R15) | D22: =IF(個人・団体の部!M15=0,"",個人・団体の部!M15)
A23: =IF(個人・団体の部!M16=0,"",個人・団体の部!$O$9) | B23: 高等学校 | C23: =IF(個人・団体の部!R16=0,"",個人・団体の部!R16) | D23: =IF(個人・団体の部!M16=0,"",個人・団体の部!M16)
A24: =IF(個人・団体の部!M17=0,"",個人・団体の部!$O$9) | B24: 高等学校 | C24: =IF(個人・団体の部!R17=0,"",個人・団体の部!R17) | D24: =IF(個人・団体の部!M17=0,"",個人・団体の部!M17)
A25: =IF(個人・団体の部!M18=0,"",個人・団体の部!$O$9) | B25: 高等学校 | C25: =IF(個人・団体の部!R18=0,"",個人・団体の部!R18) | D25: =IF(個人・団体の部!M18=0,"",個人・団体の部!M18)
A26: =IF(個人・団体の部!M19=0,"",個人・団体の部!$O$9) | B26: 高等学校 | C26: =IF(個人・団体の部!R19=0,"",個人・団体の部!R19) | D26: =IF(個人・団体の部!M19=0,"",個人・団体の部!M19)
A27: =IF(個人・団体の部!M20=0,"",個人・団体の部!$O$9) | B27: 高等学校 | C27: =IF(個人・団体の部!R20=0,"",個人・団体の部!R20) | D27: =IF(個人・団体の部!M20=0,"",個人・団体の部!M20)
A28: =IF(個人・団体の部!M21=0,"",個人・団体の部!$O$9) | B28: ='[1]大会申込書 '!$O$8 -> 高等学校 | C28: =IF(個人・団体の部!R21=0,"",個人・団体の部!R21) | D28: =IF(個人・団体の部!M21=0,"",個人・団体の部!M21)
A29: =IF(個人・団体の部!M22=0,"",個人・団体の部!$O$9) | B29: ='[1]大会申込書 '!$O$8 -> 高等学校 | C29: =IF(個人・団体の部!R22=0,"",個人・団体の部!R22) | D29: =IF(個人・団体の部!M22=0,"",個人・団体の部!M22)
A31: ＊この名簿は、保険申請の目的以外には使用しません。
